BEGIN:VCALENDAR
VERSION:2.0
PRODID:-//AlHaqq Prayer Group of Canada Inc. - ECPv6.15.20//NONSGML v1.0//EN
CALSCALE:GREGORIAN
METHOD:PUBLISH
X-WR-CALNAME:AlHaqq Prayer Group of Canada Inc.
X-ORIGINAL-URL:https://alhaqqcanada.ca
X-WR-CALDESC:Events for AlHaqq Prayer Group of Canada Inc.
REFRESH-INTERVAL;VALUE=DURATION:PT1H
X-Robots-Tag:noindex
X-PUBLISHED-TTL:PT1H
BEGIN:VTIMEZONE
TZID:America/Winnipeg
BEGIN:DAYLIGHT
TZOFFSETFROM:-0600
TZOFFSETTO:-0500
TZNAME:CDT
DTSTART:20250309T080000
END:DAYLIGHT
BEGIN:STANDARD
TZOFFSETFROM:-0500
TZOFFSETTO:-0600
TZNAME:CST
DTSTART:20251102T070000
END:STANDARD
BEGIN:DAYLIGHT
TZOFFSETFROM:-0600
TZOFFSETTO:-0500
TZNAME:CDT
DTSTART:20260308T080000
END:DAYLIGHT
BEGIN:STANDARD
TZOFFSETFROM:-0500
TZOFFSETTO:-0600
TZNAME:CST
DTSTART:20261101T070000
END:STANDARD
BEGIN:DAYLIGHT
TZOFFSETFROM:-0600
TZOFFSETTO:-0500
TZNAME:CDT
DTSTART:20270314T080000
END:DAYLIGHT
BEGIN:STANDARD
TZOFFSETFROM:-0500
TZOFFSETTO:-0600
TZNAME:CST
DTSTART:20271107T070000
END:STANDARD
END:VTIMEZONE
BEGIN:VEVENT
DTSTART;TZID=America/Winnipeg:20260329T090000
DTEND;TZID=America/Winnipeg:20260329T230000
DTSTAMP:20260420T221742
CREATED:20260313T144315Z
LAST-MODIFIED:20260313T144315Z
UID:2251-1774774800-1774825200@alhaqqcanada.ca
SUMMARY:FAMILY RECREATION DAY
DESCRIPTION:
URL:https://alhaqqcanada.ca/event/family-recreation-day-2/
ATTACH;FMTTYPE=image/jpeg:https://alhaqqcanada.ca/wp-content/uploads/2026/03/WhatsApp-Image-2022-04-17-at-5.03.06-PM-1.jpeg
END:VEVENT
BEGIN:VEVENT
DTSTART;TZID=America/Winnipeg:20260329T100000
DTEND;TZID=America/Winnipeg:20260329T120000
DTSTAMP:20260420T221742
CREATED:20260313T144721Z
LAST-MODIFIED:20260313T144721Z
UID:2257-1774778400-1774785600@alhaqqcanada.ca
SUMMARY:AL-HAQQ YOUTH GROUP
DESCRIPTION:Meeting link>>>> https://us02web.zoom.us/j/87956501477?pwd=SGd6QVpPMFpTSzhNZ3E4SWxzZEx4dz09
URL:https://alhaqqcanada.ca/event/al-haqq-youth-group/
ATTACH;FMTTYPE=image/jpeg:https://alhaqqcanada.ca/wp-content/uploads/2026/03/WhatsApp-Image-2022-04-17-at-5.03.06-PM-1.jpeg
END:VEVENT
BEGIN:VEVENT
DTSTART;TZID=America/Winnipeg:20260329T110000
DTEND;TZID=America/Winnipeg:20260329T120000
DTSTAMP:20260420T221742
CREATED:20260313T145210Z
LAST-MODIFIED:20260313T145210Z
UID:2264-1774782000-1774785600@alhaqqcanada.ca
SUMMARY:Online Quran classes Age 10 – 12 Years (Stage 1)
DESCRIPTION:Online Quran classes Age 10 – 12 Years (Stage 1)\nTime: 11:15 AM – 12:00 PM \nMeeting link \nMeeting ID: 859 2486 5805\nPasscode: 552701 \nFind your local number: https://us02web.zoom.us/u/kcvZz2b4AI
URL:https://alhaqqcanada.ca/event/online-quran-classes-age-10-12-years-stage-1-2/
ATTACH;FMTTYPE=image/jpeg:https://alhaqqcanada.ca/wp-content/uploads/2026/03/quran-islam-book-6114872.jpg
END:VEVENT
END:VCALENDAR