BEGIN:VCALENDAR
VERSION:2.0
PRODID:-//AlHaqq Prayer Group of Canada Inc. - ECPv6.15.20//NONSGML v1.0//EN
CALSCALE:GREGORIAN
METHOD:PUBLISH
X-ORIGINAL-URL:https://alhaqqcanada.ca
X-WR-CALDESC:Events for AlHaqq Prayer Group of Canada Inc.
REFRESH-INTERVAL;VALUE=DURATION:PT1H
X-Robots-Tag:noindex
X-PUBLISHED-TTL:PT1H
BEGIN:VTIMEZONE
TZID:America/Winnipeg
BEGIN:DAYLIGHT
TZOFFSETFROM:-0600
TZOFFSETTO:-0500
TZNAME:CDT
DTSTART:20250309T080000
END:DAYLIGHT
BEGIN:STANDARD
TZOFFSETFROM:-0500
TZOFFSETTO:-0600
TZNAME:CST
DTSTART:20251102T070000
END:STANDARD
BEGIN:DAYLIGHT
TZOFFSETFROM:-0600
TZOFFSETTO:-0500
TZNAME:CDT
DTSTART:20260308T080000
END:DAYLIGHT
BEGIN:STANDARD
TZOFFSETFROM:-0500
TZOFFSETTO:-0600
TZNAME:CST
DTSTART:20261101T070000
END:STANDARD
BEGIN:DAYLIGHT
TZOFFSETFROM:-0600
TZOFFSETTO:-0500
TZNAME:CDT
DTSTART:20270314T080000
END:DAYLIGHT
BEGIN:STANDARD
TZOFFSETFROM:-0500
TZOFFSETTO:-0600
TZNAME:CST
DTSTART:20271107T070000
END:STANDARD
END:VTIMEZONE
BEGIN:VEVENT
DTSTART;TZID=America/Winnipeg:20260405T090000
DTEND;TZID=America/Winnipeg:20260405T110000
DTSTAMP:20260421T092900
CREATED:20260313T144138Z
LAST-MODIFIED:20260313T150756Z
UID:2236-1775379600-1775386800@alhaqqcanada.ca
SUMMARY:Online Quran classes Age 10 – 12 Years (Stage 2)
DESCRIPTION:Online Quran classes Age 10 – 12 Years (Stage 2)\nTime: 12:00 PM – 1:00 PM \nVirtual Halaqah & Ustrah session\nTime: July 17\, 2022 09:00 AM – 11:00 AM Winnipeg \nJoin Zoom Meeting \nMeeting ID: 827 5713 1622\nPasscode: 075431\nOne tap mobile\n+16699006833\,\,82757131622#\,\,\,\,*075431# US (San Jose)\n+19292056099\,\,82757131622#\,\,\,\,*075431# US (New York) \nDial by your location\n+1 669 900 6833 US (San Jose)\n+1 929 205 6099 US (New York)\n+1 253 215 8782 US (Tacoma)\n+1 301 715 8592 US (Washington DC)\n+1 312 626 6799 US (Chicago)\n+1 346 248 7799 US (Houston)\nMeeting ID: 827 5713 1622 \nPasscode: 075431\nFind your local number: https://us02web.zoom.us/u/kqCTjbgaj
URL:https://alhaqqcanada.ca/event/online-quran-classes-age-10-12-years-stage-2-2/
END:VEVENT
BEGIN:VEVENT
DTSTART;TZID=America/Winnipeg:20260405T090000
DTEND;TZID=America/Winnipeg:20260405T110000
DTSTAMP:20260421T092900
CREATED:20260313T151131Z
LAST-MODIFIED:20260313T151131Z
UID:2283-1775379600-1775386800@alhaqqcanada.ca
SUMMARY:FAMILY RECREATION DAY
DESCRIPTION:
URL:https://alhaqqcanada.ca/event/family-recreation-day-3/
ATTACH;FMTTYPE=image/jpeg:https://alhaqqcanada.ca/wp-content/uploads/2026/03/WhatsApp-Image-2022-04-17-at-5.03.06-PM-1.jpeg
END:VEVENT
END:VCALENDAR