BEGIN:VCALENDAR
VERSION:2.0
PRODID:-//AlHaqq Prayer Group of Canada Inc. - ECPv6.15.20//NONSGML v1.0//EN
CALSCALE:GREGORIAN
METHOD:PUBLISH
X-ORIGINAL-URL:https://alhaqqcanada.ca
X-WR-CALDESC:Events for AlHaqq Prayer Group of Canada Inc.
REFRESH-INTERVAL;VALUE=DURATION:PT1H
X-Robots-Tag:noindex
X-PUBLISHED-TTL:PT1H
BEGIN:VTIMEZONE
TZID:America/Winnipeg
BEGIN:DAYLIGHT
TZOFFSETFROM:-0600
TZOFFSETTO:-0500
TZNAME:CDT
DTSTART:20250309T080000
END:DAYLIGHT
BEGIN:STANDARD
TZOFFSETFROM:-0500
TZOFFSETTO:-0600
TZNAME:CST
DTSTART:20251102T070000
END:STANDARD
BEGIN:DAYLIGHT
TZOFFSETFROM:-0600
TZOFFSETTO:-0500
TZNAME:CDT
DTSTART:20260308T080000
END:DAYLIGHT
BEGIN:STANDARD
TZOFFSETFROM:-0500
TZOFFSETTO:-0600
TZNAME:CST
DTSTART:20261101T070000
END:STANDARD
BEGIN:DAYLIGHT
TZOFFSETFROM:-0600
TZOFFSETTO:-0500
TZNAME:CDT
DTSTART:20270314T080000
END:DAYLIGHT
BEGIN:STANDARD
TZOFFSETFROM:-0500
TZOFFSETTO:-0600
TZNAME:CST
DTSTART:20271107T070000
END:STANDARD
END:VTIMEZONE
BEGIN:VEVENT
DTSTART;TZID=America/Winnipeg:20260411T120000
DTEND;TZID=America/Winnipeg:20260411T130000
DTSTAMP:20260423T104240
CREATED:20260313T152037Z
LAST-MODIFIED:20260313T152037Z
UID:2295-1775908800-1775912400@alhaqqcanada.ca
SUMMARY:Online Quran classes Age 10 – 12 Years (Stage 2)
DESCRIPTION:Online Quran classes Age 10 – 12 Years (Stage 2)\nTime: 12:00 PM – 1:00 PM \nMeeting Link\nMeeting ID: 880 9132 5077\nPasscode: 103726 \nFind your local number: https://us02web.zoom.us/u/kdlC3Gjdzj
URL:https://alhaqqcanada.ca/event/online-quran-classes-age-10-12-years-stage-2-3/
ATTACH;FMTTYPE=image/jpeg:https://alhaqqcanada.ca/wp-content/uploads/2026/03/quran-islam-book-6114872.jpg
END:VEVENT
END:VCALENDAR