BEGIN:VCALENDAR
VERSION:2.0
PRODID:-//AlHaqq Prayer Group of Canada Inc. - ECPv6.15.20//NONSGML v1.0//EN
CALSCALE:GREGORIAN
METHOD:PUBLISH
X-ORIGINAL-URL:https://alhaqqcanada.ca
X-WR-CALDESC:Events for AlHaqq Prayer Group of Canada Inc.
REFRESH-INTERVAL;VALUE=DURATION:PT1H
X-Robots-Tag:noindex
X-PUBLISHED-TTL:PT1H
BEGIN:VTIMEZONE
TZID:America/Winnipeg
BEGIN:DAYLIGHT
TZOFFSETFROM:-0600
TZOFFSETTO:-0500
TZNAME:CDT
DTSTART:20250309T080000
END:DAYLIGHT
BEGIN:STANDARD
TZOFFSETFROM:-0500
TZOFFSETTO:-0600
TZNAME:CST
DTSTART:20251102T070000
END:STANDARD
BEGIN:DAYLIGHT
TZOFFSETFROM:-0600
TZOFFSETTO:-0500
TZNAME:CDT
DTSTART:20260308T080000
END:DAYLIGHT
BEGIN:STANDARD
TZOFFSETFROM:-0500
TZOFFSETTO:-0600
TZNAME:CST
DTSTART:20261101T070000
END:STANDARD
BEGIN:DAYLIGHT
TZOFFSETFROM:-0600
TZOFFSETTO:-0500
TZNAME:CDT
DTSTART:20270314T080000
END:DAYLIGHT
BEGIN:STANDARD
TZOFFSETFROM:-0500
TZOFFSETTO:-0600
TZNAME:CST
DTSTART:20271107T070000
END:STANDARD
END:VTIMEZONE
BEGIN:VEVENT
DTSTART;TZID=America/Winnipeg:20260313T080000
DTEND;TZID=America/Winnipeg:20260313T170000
DTSTAMP:20260425T064343
CREATED:20260313T145615Z
LAST-MODIFIED:20260313T145615Z
UID:2267-1773388800-1773421200@alhaqqcanada.ca
SUMMARY:Online Quran Class ( Kids 13 -Above )
DESCRIPTION:Online Quran classes Age 13 Years and Up\nTime: 1:00 PM – 2:00 PM \nMeeting Link \nMeeting ID: 847 9187 3775\nPasscode: 649305 \nFind your local number: https://us02web.zoom.us/u/kcL3pc7OcM
URL:https://alhaqqcanada.ca/event/online-quran-class-kids-13-above/
ATTACH;FMTTYPE=image/jpeg:https://alhaqqcanada.ca/wp-content/uploads/2026/03/WhatsApp-Image-2022-04-17-at-5.02.10-PM-1.jpeg
END:VEVENT
BEGIN:VEVENT
DTSTART;TZID=America/Winnipeg:20260313T080000
DTEND;TZID=America/Winnipeg:20260313T170000
DTSTAMP:20260425T064343
CREATED:20260313T145955Z
LAST-MODIFIED:20260313T145955Z
UID:2277-1773388800-1773421200@alhaqqcanada.ca
SUMMARY:WEEKLY HALAQAH & LECTURES
DESCRIPTION:Virtual Halaqah & Ustrah session\nTime: July 17\, 2022 09:00 AM – 11:00 AM Winnipeg \nhref=”https://us02web.zoom.us/j/82757131622?pwd=N1B3UEJvTWR6TnBPaThDZ0V3dHJMZz09″>Meeting Link \nMeeting ID: 827 5713 1622\nPasscode: 075431\nOne tap mobile\n+16699006833\,\,82757131622#\,\,\,\,*075431# US (San Jose)\n+19292056099\,\,82757131622#\,\,\,\,*075431# US (New York) \nDial by your location\n+1 669 900 6833 US (San Jose)\n+1 929 205 6099 US (New York)\n+1 253 215 8782 US (Tacoma)\n+1 301 715 8592 US (Washington DC)\n+1 312 626 6799 US (Chicago)\n+1 346 248 7799 US (Houston)\nMeeting ID: 827 5713 1622 \nPasscode: 075431\nFind your local number: https://us02web.zoom.us/u/kqCTjbgaj
URL:https://alhaqqcanada.ca/event/weekly-halaqah-lectures-2/
ATTACH;FMTTYPE=image/jpeg:https://alhaqqcanada.ca/wp-content/uploads/2026/03/WhatsApp-Image-2022-04-17-at-5.02.29-PM-1.jpeg
END:VEVENT
BEGIN:VEVENT
DTSTART;TZID=America/Winnipeg:20260315T090000
DTEND;TZID=America/Winnipeg:20260315T230000
DTSTAMP:20260425T064343
CREATED:20260313T133322Z
LAST-MODIFIED:20260313T133406Z
UID:2206-1773565200-1773615600@alhaqqcanada.ca
SUMMARY:WEEKLY HALAQAH & LECTURES
DESCRIPTION:Virtual Halaqah & Ustrah session\nTime: March 15\, 2026 09:00 AM – 11:00 AM Winnipeg \nMeeting ID: 827 5713 1622\nPasscode: 075431\nOne tap mobile\n+16699006833\,\,82757131622#\,\,\,\,*075431# US (San Jose)\n+19292056099\,\,82757131622#\,\,\,\,*075431# US (New York) \nDial by your location\n+1 669 900 6833 US (San Jose)\n+1 929 205 6099 US (New York)\n+1 253 215 8782 US (Tacoma)\n+1 301 715 8592 US (Washington DC)\n+1 312 626 6799 US (Chicago)\n+1 346 248 7799 US (Houston)\nMeeting ID: 827 5713 1622 \nPasscode: 075431\nFind your local number: https://us02web.zoom.us/u/kqCTjbgaj
URL:https://alhaqqcanada.ca/event/weekly-halaqah-lectures/
ATTACH;FMTTYPE=image/jpeg:https://alhaqqcanada.ca/wp-content/uploads/2026/03/WhatsApp-Image-2022-04-17-at-5.02.29-PM-1.jpeg
END:VEVENT
BEGIN:VEVENT
DTSTART;TZID=America/Winnipeg:20260315T090000
DTEND;TZID=America/Winnipeg:20260315T230000
DTSTAMP:20260425T064343
CREATED:20260313T133637Z
LAST-MODIFIED:20260313T133637Z
UID:2223-1773565200-1773615600@alhaqqcanada.ca
SUMMARY:FAMILY RECREATION DAY
DESCRIPTION:
URL:https://alhaqqcanada.ca/event/family-recreation-day/
ATTACH;FMTTYPE=image/jpeg:https://alhaqqcanada.ca/wp-content/uploads/2026/03/WhatsApp-Image-2022-04-17-at-5.03.06-PM-1.jpeg
END:VEVENT
BEGIN:VEVENT
DTSTART;TZID=America/Winnipeg:20260315T110000
DTEND;TZID=America/Winnipeg:20260315T120000
DTSTAMP:20260425T064343
CREATED:20260313T134006Z
LAST-MODIFIED:20260313T134006Z
UID:2227-1773572400-1773576000@alhaqqcanada.ca
SUMMARY:Online Quran classes Age 10 – 12 Years (Stage 1)
DESCRIPTION:
URL:https://alhaqqcanada.ca/event/online-quran-classes-age-10-12-years-stage-1/
ATTACH;FMTTYPE=image/jpeg:https://alhaqqcanada.ca/wp-content/uploads/2026/03/quran-islam-book-6114872.jpg
END:VEVENT
BEGIN:VEVENT
DTSTART;TZID=America/Winnipeg:20260315T120000
DTEND;TZID=America/Winnipeg:20260315T130000
DTSTAMP:20260425T064343
CREATED:20260313T132548Z
LAST-MODIFIED:20260313T133009Z
UID:2189-1773576000-1773579600@alhaqqcanada.ca
SUMMARY:Online Quran classes Age 10 – 12 Years (Stage 2)
DESCRIPTION:Online Quran classes Age 10 – 12 Years (Stage 2)\nTime: 12:00 PM – 1:00 PM\nMeeting ID: 880 9132 5077\nPasscode: 103726 \nFind your local number: https://us02web.zoom.us/u/kdlC3Gjdzj
URL:https://alhaqqcanada.ca/event/online-quran-classes-age-10-12-years-stage-2/
ATTACH;FMTTYPE=image/jpeg:https://alhaqqcanada.ca/wp-content/uploads/2026/03/quran-islam-book-6114872.jpg
END:VEVENT
BEGIN:VEVENT
DTSTART;TZID=America/Winnipeg:20260329T090000
DTEND;TZID=America/Winnipeg:20260329T230000
DTSTAMP:20260425T064343
CREATED:20260313T144315Z
LAST-MODIFIED:20260313T144315Z
UID:2251-1774774800-1774825200@alhaqqcanada.ca
SUMMARY:FAMILY RECREATION DAY
DESCRIPTION:
URL:https://alhaqqcanada.ca/event/family-recreation-day-2/
ATTACH;FMTTYPE=image/jpeg:https://alhaqqcanada.ca/wp-content/uploads/2026/03/WhatsApp-Image-2022-04-17-at-5.03.06-PM-1.jpeg
END:VEVENT
BEGIN:VEVENT
DTSTART;TZID=America/Winnipeg:20260329T100000
DTEND;TZID=America/Winnipeg:20260329T120000
DTSTAMP:20260425T064343
CREATED:20260313T144721Z
LAST-MODIFIED:20260313T144721Z
UID:2257-1774778400-1774785600@alhaqqcanada.ca
SUMMARY:AL-HAQQ YOUTH GROUP
DESCRIPTION:Meeting link>>>> https://us02web.zoom.us/j/87956501477?pwd=SGd6QVpPMFpTSzhNZ3E4SWxzZEx4dz09
URL:https://alhaqqcanada.ca/event/al-haqq-youth-group/
ATTACH;FMTTYPE=image/jpeg:https://alhaqqcanada.ca/wp-content/uploads/2026/03/WhatsApp-Image-2022-04-17-at-5.03.06-PM-1.jpeg
END:VEVENT
BEGIN:VEVENT
DTSTART;TZID=America/Winnipeg:20260329T110000
DTEND;TZID=America/Winnipeg:20260329T120000
DTSTAMP:20260425T064343
CREATED:20260313T145210Z
LAST-MODIFIED:20260313T145210Z
UID:2264-1774782000-1774785600@alhaqqcanada.ca
SUMMARY:Online Quran classes Age 10 – 12 Years (Stage 1)
DESCRIPTION:Online Quran classes Age 10 – 12 Years (Stage 1)\nTime: 11:15 AM – 12:00 PM \nMeeting link \nMeeting ID: 859 2486 5805\nPasscode: 552701 \nFind your local number: https://us02web.zoom.us/u/kcvZz2b4AI
URL:https://alhaqqcanada.ca/event/online-quran-classes-age-10-12-years-stage-1-2/
ATTACH;FMTTYPE=image/jpeg:https://alhaqqcanada.ca/wp-content/uploads/2026/03/quran-islam-book-6114872.jpg
END:VEVENT
END:VCALENDAR